BEGIN:VCALENDAR
VERSION:2.0
PRODID:-//Rotary Club of Des Moines AM - ECPv6.15.20//NONSGML v1.0//EN
CALSCALE:GREGORIAN
METHOD:PUBLISH
X-WR-CALNAME:Rotary Club of Des Moines AM
X-ORIGINAL-URL:https://rotaryclubofdmam.com
X-WR-CALDESC:Events for Rotary Club of Des Moines AM
REFRESH-INTERVAL;VALUE=DURATION:PT1H
X-Robots-Tag:noindex
X-PUBLISHED-TTL:PT1H
BEGIN:VTIMEZONE
TZID:America/Chicago
BEGIN:DAYLIGHT
TZOFFSETFROM:-0600
TZOFFSETTO:-0500
TZNAME:CDT
DTSTART:20240310T080000
END:DAYLIGHT
BEGIN:STANDARD
TZOFFSETFROM:-0500
TZOFFSETTO:-0600
TZNAME:CST
DTSTART:20241103T070000
END:STANDARD
BEGIN:DAYLIGHT
TZOFFSETFROM:-0600
TZOFFSETTO:-0500
TZNAME:CDT
DTSTART:20250309T080000
END:DAYLIGHT
BEGIN:STANDARD
TZOFFSETFROM:-0500
TZOFFSETTO:-0600
TZNAME:CST
DTSTART:20251102T070000
END:STANDARD
BEGIN:DAYLIGHT
TZOFFSETFROM:-0600
TZOFFSETTO:-0500
TZNAME:CDT
DTSTART:20260308T080000
END:DAYLIGHT
BEGIN:STANDARD
TZOFFSETFROM:-0500
TZOFFSETTO:-0600
TZNAME:CST
DTSTART:20261101T070000
END:STANDARD
BEGIN:DAYLIGHT
TZOFFSETFROM:-0600
TZOFFSETTO:-0500
TZNAME:CDT
DTSTART:20270314T080000
END:DAYLIGHT
BEGIN:STANDARD
TZOFFSETFROM:-0500
TZOFFSETTO:-0600
TZNAME:CST
DTSTART:20271107T070000
END:STANDARD
END:VTIMEZONE
BEGIN:VEVENT
DTSTART;TZID=America/Chicago:20260213T070000
DTEND;TZID=America/Chicago:20260213T070000
DTSTAMP:20260425T065834
CREATED:20260130T030141Z
LAST-MODIFIED:20260306T041036Z
UID:3480-1770966000-1770966000@rotaryclubofdmam.com
SUMMARY:Brad Zaun\, SBA Regional Administrator
DESCRIPTION:Small Business Administration’s Efforts to Promote Business in America\nSmall Business Administration’s Efforts to Promote Businesses in America\n\nBrad Zaun is the Great Plains Regional Administrator serving Iowa\, Kansas\, Missouri and Nebraska. He leverages over two decades of experience as a dedicated small business owner\, community leader\, and public servant. As former owner/operator of Zaun’s Trustworthy Hardware and vice president of R and R Realty Marketing Group\, he gained direct insight into the complexities and needs of entrepreneurs. \nMr. Zaun’s extensive public service includes terms on the City Council of Urbandale\, Iowa\, and as mayor from 1998 to 2004\, followed by 20 years championing small businesses in the Iowa State Senate from 2005 to 2025.
URL:https://rotaryclubofdmam.com/event/next-chapter-retirement-group-meeting/
LOCATION:Wakonda Club\, 3915 Fleur Drive\, Des Moines\, IA\, 50321\, United States
CATEGORIES:Friday Club Mtg
ATTACH;FMTTYPE=image/png:https://rotaryclubofdmam.com/wp-content/uploads/2026/02/Brad-Zaun-1.png
END:VEVENT
BEGIN:VEVENT
DTSTART;TZID=America/Chicago:20260206T070000
DTEND;TZID=America/Chicago:20260206T070000
DTSTAMP:20260425T065834
CREATED:20260130T025952Z
LAST-MODIFIED:20260318T031813Z
UID:3478-1770361200-1770361200@rotaryclubofdmam.com
SUMMARY:David Stark & Cole Coffin: Overcoming Adversity
DESCRIPTION:David Stark & Cole Coffin\nOvercoming Adversity\n\nCole Coffin is a 26-year-old Des Moines\, Iowa resident. He attended the University of Iowa and graduated with his bachelor’s degree in finance. Cole works for Holmes Murphy as a Property Casualty Client Executive since 2021. Cole’s family consists of Mom and Dad\, Mary and Don\, brothers\, Chris and Atlias\, sister\, Caeli\, fiancé’\, Grace and dog best friend\, Cooper. On top of Rotary\, Cole is involved in Easterseals Iowa and the Iowa Adaptive Golf Association. When not working Cole enjoys\, watching sports\, vacations\, golf\, and music. \n\nDavid Stark is an Iowa native.  Worked at UnityPoint Health since 1996\,. He currently serves as the Foundation/Government Affairs Executive for UnityPoint Health and most recently served as President/CEO for UnityPoint Health – Des Moines. He received his undergraduate degree from Iowa State University in Management and his Master’s in Healthcare Administration from the University of Iowa. Stark is a Fellow in the American College of Healthcare Executives\, serves on numerous local boards; been a member of DMAM for 25 years and is a graduate of the Greater Des Moines Leadership Institute.
URL:https://rotaryclubofdmam.com/event/david-stark-cole-coffin-overcoming-adversity/
LOCATION:Wakonda Club\, 3915 Fleur Drive\, Des Moines\, IA\, 50321\, United States
CATEGORIES:Friday Club Mtg
END:VEVENT
BEGIN:VEVENT
DTSTART;VALUE=DATE:20260109
DTEND;VALUE=DATE:20260110
DTSTAMP:20260425T065834
CREATED:20260130T024755Z
LAST-MODIFIED:20260402T141529Z
UID:3463-1767916800-1768003199@rotaryclubofdmam.com
SUMMARY:No Rotary Meeting
DESCRIPTION:Wakonda Club Annual Refresh\n\nOur regularly scheduled Friday morning Rotary meeting is cancelled due to Wakonda Club’s annual 2-week cleaning and refresh. \nHave a great weekend!
URL:https://rotaryclubofdmam.com/event/no-rotary-meeting-2/
LOCATION:Wakonda Club\, 3915 Fleur Drive\, Des Moines\, IA\, 50321\, United States
CATEGORIES:Friday Club Mtg
END:VEVENT
BEGIN:VEVENT
DTSTART;VALUE=DATE:20260102
DTEND;VALUE=DATE:20260103
DTSTAMP:20260425T065834
CREATED:20260130T024529Z
LAST-MODIFIED:20260402T141601Z
UID:3460-1767312000-1767398399@rotaryclubofdmam.com
SUMMARY:No Rotary Meeting
DESCRIPTION:Wakonda Club Annual Refresh\n\nOur regularly scheduled Friday morning Rotary meeting is cancelled due to Wakonda Club’s annual 2-week cleaning and refresh. \nHave a great weekend!
URL:https://rotaryclubofdmam.com/event/no-rotary-meeting/
LOCATION:Wakonda Club\, 3915 Fleur Drive\, Des Moines\, IA\, 50321\, United States
CATEGORIES:Friday Club Mtg
END:VEVENT
BEGIN:VEVENT
DTSTART;VALUE=DATE:20250926
DTEND;VALUE=DATE:20250927
DTSTAMP:20260425T065834
CREATED:20250912T135413Z
LAST-MODIFIED:20260402T141653Z
UID:248-1758844800-1758931199@rotaryclubofdmam.com
SUMMARY:Program: Harry Smith\, American Television Journalist
DESCRIPTION:
URL:https://rotaryclubofdmam.com/event/program-harry-smith-american-television-journalist/
LOCATION:Wakonda Club\, 3915 Fleur Drive\, Des Moines\, IA\, 50321\, United States
CATEGORIES:Friday Club Mtg
END:VEVENT
BEGIN:VEVENT
DTSTART;TZID=America/Chicago:20250919T070000
DTEND;TZID=America/Chicago:20250919T080000
DTSTAMP:20260425T065834
CREATED:20250909T200833Z
LAST-MODIFIED:20260304T171129Z
UID:137-1758265200-1758268800@rotaryclubofdmam.com
SUMMARY:Travis Shelton Meaning over Money Podcaster
DESCRIPTION:
URL:https://rotaryclubofdmam.com/event/travis-shelton-meaning-over-money-podcaster/
LOCATION:IA
CATEGORIES:Friday Club Mtg
ATTACH;FMTTYPE=image/png:https://rotaryclubofdmam.com/wp-content/uploads/2025/09/Travis-Shelton.png
END:VEVENT
BEGIN:VEVENT
DTSTART;TZID=America/Chicago:20250912T070000
DTEND;TZID=America/Chicago:20250912T080000
DTSTAMP:20260425T065834
CREATED:20250909T200557Z
LAST-MODIFIED:20260402T142025Z
UID:134-1757660400-1757664000@rotaryclubofdmam.com
SUMMARY:Shir Agha Safi
DESCRIPTION:
URL:https://rotaryclubofdmam.com/event/shir-agha-safi/
LOCATION:Wakonda Club\, 3915 Fleur Drive\, Des Moines\, IA\, 50321\, United States
CATEGORIES:Friday Club Mtg
ATTACH;FMTTYPE=image/jpeg:https://rotaryclubofdmam.com/wp-content/uploads/2025/09/Shir-Agha.jpg
END:VEVENT
END:VCALENDAR