BEGIN:VCALENDAR
VERSION:2.0
PRODID:-//Rotary Club of Des Moines AM - ECPv6.15.20//NONSGML v1.0//EN
CALSCALE:GREGORIAN
METHOD:PUBLISH
X-ORIGINAL-URL:https://rotaryclubofdmam.com
X-WR-CALDESC:Events for Rotary Club of Des Moines AM
REFRESH-INTERVAL;VALUE=DURATION:PT1H
X-Robots-Tag:noindex
X-PUBLISHED-TTL:PT1H
BEGIN:VTIMEZONE
TZID:America/Chicago
BEGIN:DAYLIGHT
TZOFFSETFROM:-0600
TZOFFSETTO:-0500
TZNAME:CDT
DTSTART:20250309T080000
END:DAYLIGHT
BEGIN:STANDARD
TZOFFSETFROM:-0500
TZOFFSETTO:-0600
TZNAME:CST
DTSTART:20251102T070000
END:STANDARD
BEGIN:DAYLIGHT
TZOFFSETFROM:-0600
TZOFFSETTO:-0500
TZNAME:CDT
DTSTART:20260308T080000
END:DAYLIGHT
BEGIN:STANDARD
TZOFFSETFROM:-0500
TZOFFSETTO:-0600
TZNAME:CST
DTSTART:20261101T070000
END:STANDARD
BEGIN:DAYLIGHT
TZOFFSETFROM:-0600
TZOFFSETTO:-0500
TZNAME:CDT
DTSTART:20270314T080000
END:DAYLIGHT
BEGIN:STANDARD
TZOFFSETFROM:-0500
TZOFFSETTO:-0600
TZNAME:CST
DTSTART:20271107T070000
END:STANDARD
END:VTIMEZONE
BEGIN:VEVENT
DTSTART;TZID=America/Chicago:20260424T070000
DTEND;TZID=America/Chicago:20260424T080000
DTSTAMP:20260423T111354
CREATED:20260329T194959Z
LAST-MODIFIED:20260419T175022Z
UID:3773-1777014000-1777017600@rotaryclubofdmam.com
SUMMARY:Rotarians Telling Their Stories: Dan Montgomery & Chris Nebons
DESCRIPTION:Dan Montgomery:  A Different Kind of Normal: Life in Rural Alaska\nChris Nebons:  From Forced Labor to the Lunar Lander – The Neboshynskys’ Coming to America \n\n\n\n\nEach of us has at least one great story to tell. Join us in hearing as Dan & Chris\, two Des Moines AM Rotary members\, share their stories in our Friday morning meeting.
URL:https://rotaryclubofdmam.com/event/rotarians-tba/
LOCATION:Wakonda Club\, 3915 Fleur Drive\, Des Moines\, IA\, 50321\, United States
CATEGORIES:Friday Club Mtg
ATTACH;FMTTYPE=image/png:https://rotaryclubofdmam.com/wp-content/uploads/2026/03/Dan-Chris.png
END:VEVENT
BEGIN:VEVENT
DTSTART;TZID=America/Chicago:20260501T070000
DTEND;TZID=America/Chicago:20260501T080000
DTSTAMP:20260423T111354
CREATED:20260419T180307Z
LAST-MODIFIED:20260419T180307Z
UID:3857-1777618800-1777622400@rotaryclubofdmam.com
SUMMARY:FIFA Panel Discussion - Ozzie White\, Trina Flack\, Dan Cataldi
DESCRIPTION:Details coming soon!
URL:https://rotaryclubofdmam.com/event/fifa-panel-discussion-ozzie-white-trina-flack-dan-cataldi/
LOCATION:Wakonda Club\, 3915 Fleur Drive\, Des Moines\, IA\, 50321\, United States
CATEGORIES:Friday Club Mtg
ATTACH;FMTTYPE=image/png:https://rotaryclubofdmam.com/wp-content/uploads/2026/04/fifa-world-cup-2026-logo-scaled.png
END:VEVENT
BEGIN:VEVENT
DTSTART;TZID=America/Chicago:20260508T070000
DTEND;TZID=America/Chicago:20260508T080000
DTSTAMP:20260423T111354
CREATED:20260419T181123Z
LAST-MODIFIED:20260419T181123Z
UID:3862-1778223600-1778227200@rotaryclubofdmam.com
SUMMARY:Lance Henning\, CEO
DESCRIPTION:Habitat for Humanity \n\nDetails TBA
URL:https://rotaryclubofdmam.com/event/lance-henning-ceo/
LOCATION:Wakonda Club\, 3915 Fleur Drive\, Des Moines\, IA\, 50321\, United States
CATEGORIES:Friday Club Mtg
ATTACH;FMTTYPE=image/webp:https://rotaryclubofdmam.com/wp-content/uploads/2026/03/Coming-Soon-Placeholder-Square-1.webp
END:VEVENT
BEGIN:VEVENT
DTSTART;TZID=America/Chicago:20260515T070000
DTEND;TZID=America/Chicago:20260515T080000
DTSTAMP:20260423T111354
CREATED:20260419T200228Z
LAST-MODIFIED:20260419T200228Z
UID:3863-1778828400-1778832000@rotaryclubofdmam.com
SUMMARY:Michael LaValle
DESCRIPTION:Coming Soon! \n\nDetails TBA
URL:https://rotaryclubofdmam.com/event/michael-lavalle/
LOCATION:Wakonda Club\, 3915 Fleur Drive\, Des Moines\, IA\, 50321\, United States
CATEGORIES:Friday Club Mtg
ATTACH;FMTTYPE=image/webp:https://rotaryclubofdmam.com/wp-content/uploads/2026/03/Coming-Soon-Placeholder-Square-1.webp
END:VEVENT
BEGIN:VEVENT
DTSTART;TZID=America/Chicago:20260522T070000
DTEND;TZID=America/Chicago:20260522T080000
DTSTAMP:20260423T111354
CREATED:20260419T200513Z
LAST-MODIFIED:20260419T200513Z
UID:3864-1779433200-1779436800@rotaryclubofdmam.com
SUMMARY:Founder's Day: OFF SITE MEETINGS
DESCRIPTION:Coming Soon! \n\nDetails TBA
URL:https://rotaryclubofdmam.com/event/founders-day-off-site-meetings/
LOCATION:IA
CATEGORIES:Friday Club Mtg
ATTACH;FMTTYPE=image/webp:https://rotaryclubofdmam.com/wp-content/uploads/2026/03/Coming-Soon-Placeholder-Square-1.webp
END:VEVENT
BEGIN:VEVENT
DTSTART;TZID=America/Chicago:20260529T070000
DTEND;TZID=America/Chicago:20260529T080000
DTSTAMP:20260423T111354
CREATED:20260419T201636Z
LAST-MODIFIED:20260419T201636Z
UID:3865-1780038000-1780041600@rotaryclubofdmam.com
SUMMARY:Adam Shriver & Kerri Johannsen
DESCRIPTION:Iowa’s Cancer Crisis\nHarkin Institute & Iowa Environmental Council \n\nDetails TBA
URL:https://rotaryclubofdmam.com/event/adam-shriver-kerri-johannsen/
LOCATION:Wakonda Club\, 3915 Fleur Drive\, Des Moines\, IA\, 50321\, United States
CATEGORIES:Friday Club Mtg
ATTACH;FMTTYPE=image/webp:https://rotaryclubofdmam.com/wp-content/uploads/2026/03/Coming-Soon-Placeholder-Square-1.webp
END:VEVENT
END:VCALENDAR