BEGIN:VCALENDAR
VERSION:2.0
PRODID:-//Rotary Club of Des Moines AM - ECPv6.15.20//NONSGML v1.0//EN
CALSCALE:GREGORIAN
METHOD:PUBLISH
X-WR-CALNAME:Rotary Club of Des Moines AM
X-ORIGINAL-URL:https://rotaryclubofdmam.com
X-WR-CALDESC:Events for Rotary Club of Des Moines AM
REFRESH-INTERVAL;VALUE=DURATION:PT1H
X-Robots-Tag:noindex
X-PUBLISHED-TTL:PT1H
BEGIN:VTIMEZONE
TZID:America/Chicago
BEGIN:DAYLIGHT
TZOFFSETFROM:-0600
TZOFFSETTO:-0500
TZNAME:CDT
DTSTART:20250309T080000
END:DAYLIGHT
BEGIN:STANDARD
TZOFFSETFROM:-0500
TZOFFSETTO:-0600
TZNAME:CST
DTSTART:20251102T070000
END:STANDARD
BEGIN:DAYLIGHT
TZOFFSETFROM:-0600
TZOFFSETTO:-0500
TZNAME:CDT
DTSTART:20260308T080000
END:DAYLIGHT
BEGIN:STANDARD
TZOFFSETFROM:-0500
TZOFFSETTO:-0600
TZNAME:CST
DTSTART:20261101T070000
END:STANDARD
BEGIN:DAYLIGHT
TZOFFSETFROM:-0600
TZOFFSETTO:-0500
TZNAME:CDT
DTSTART:20270314T080000
END:DAYLIGHT
BEGIN:STANDARD
TZOFFSETFROM:-0500
TZOFFSETTO:-0600
TZNAME:CST
DTSTART:20271107T070000
END:STANDARD
END:VTIMEZONE
BEGIN:VEVENT
DTSTART;TZID=America/Chicago:20260129T080000
DTEND;TZID=America/Chicago:20260129T170000
DTSTAMP:20260422T070545
CREATED:20260130T025728Z
LAST-MODIFIED:20260402T141425Z
UID:3475-1769673600-1769706000@rotaryclubofdmam.com
SUMMARY:St. Patrick's Day Planning
DESCRIPTION:
URL:https://rotaryclubofdmam.com/event/st-patricks-day-planning/
LOCATION:IA
CATEGORIES:Club Board + Committee Mtgs
END:VEVENT
BEGIN:VEVENT
DTSTART;TZID=America/Chicago:20260129T163000
DTEND;TZID=America/Chicago:20260129T180000
DTSTAMP:20260422T070545
CREATED:20260130T025427Z
LAST-MODIFIED:20260402T141416Z
UID:3470-1769704200-1769709600@rotaryclubofdmam.com
SUMMARY:Rollins Mansion Open House
DESCRIPTION:Join us at the Rollins Mansion social\, Thursday\, 1-29-2026\,  4:30 – 6 PM\, 2633 Fleur Drive\, DM. “Plus ones” of Rotary members are welcome.\nTours are available\, and both levels are open to us. If there is interest\, there will be a scavenger hunt on the main level at 5 pm.\n\nThere is room for 20 cars in the closest lot\, so double up and car pool with a friend. Overflow parking is available at the Italian American Cultural Center directly north of the Mansion via connecting driveway. Parking signs will be displayed.\n\nThe facility is ADA accessible\, but there is a specific route for those with limited mobility. Personal mobility assistance is available by calling Brianna Chonka\,  (515) 657-7288 in advance of the event. There is no elevator on site\, but the second level is accessible by car from the drive.\n\nComplimentary hors d’oeuvres are graciously provided by the Mansion. Credit and debit cards (only) are accepted for beverages.
URL:https://rotaryclubofdmam.com/event/rollins-mansion-open-house/
LOCATION:Rollins Mansion\, 2801 Fleur Dr.\, Des Moines\, IA\, 50321\, United States
CATEGORIES:Member Social + Networking Events
END:VEVENT
END:VCALENDAR